Workbook

Sheet Sheet1
A1: 南京市建邺区人民法院公开招聘合同聘用制人员拟录用人员名单
A2: 序号 | B2: 招聘单位 | C2: 招聘岗位 | D2: 姓名 | E2: 性别 | F2: 身份证号 | G2: 速录成绩 | H2: 笔试成绩 | I2: 面试成绩 | J2: 总成绩 | K2: 岗位排名 | L2: 体检 | M2: 政审
A3: 1 | B3: 建邺法院 | C3: 书记员 | D3: 陈芮 | E3: 女 | F3: 320121********0023 | G3: =VLOOKUP(D3,[1]南京市建邺区人民法院2022年度招聘基础能力测试考试!$C$2:$M$314,9,FALSE) -> 99.01 | H3: =VLOOKUP(D3,[1]南京市建邺区人民法院2022年度招聘基础能力测试考试!$C$2:$J$41,7,FALSE) -> 74 | I3: 37 | J3: =(G3*0.2+H3*0.8)*0.5+I3 -> 76.501 | K3: 1 | L3: 合格 | M3: 合格
A4: 2 | B4: 建邺法院 | C4: 书记员 | D4: 谢佳沁 | E4: 女 | F4: 320621********8724 | G4: =VLOOKUP(D4,[1]南京市建邺区人民法院2022年度招聘基础能力测试考试!$C$2:$M$314,9,FALSE) -> 98.01 | H4: =VLOOKUP(D4,[1]南京市建邺区人民法院2022年度招聘基础能力测试考试!$C$2:$J$41,7,FALSE) -> 76 | I4: 36.2 | J4: =(G4*0.2+H4*0.8)*0.5+I4 -> 76.401 | K4: 2 | L4: 合格 | M4: 合格
A5: 3 | B5: 建邺法院 | C5: 书记员 | D5: 周园 | E5: 女 | F5: 320106********3223 | G5: =VLOOKUP(D5,[1]南京市建邺区人民法院2022年度招聘基础能力测试考试!$C$2:$M$314,9,FALSE) -> 75.15 | H5: =VLOOKUP(D5,[1]南京市建邺区人民法院2022年度招聘基础能力测试考试!$C$2:$J$41,7,FALSE) -> 73 | I5: 38.2 | J5: =(G5*0.2+H5*0.8)*0.5+I5 -> 74.915 | K5: 3 | L5: 合格 | M5: 合格
A6: 4 | B6: 建邺法院 | C6: 书记员 | D6: 龚丽 | E6: 女 | F6: 320105********1425 | G6: =VLOOKUP(D6,[1]南京市建邺区人民法院2022年度招聘基础能力测试考试!$C$2:$M$314,9,FALSE) -> 60.84 | H6: =VLOOKUP(D6,[1]南京市建邺区人民法院2022年度招聘基础能力测试考试!$C$2:$J$41,7,FALSE) -> 77 | I6: 37.4 | J6: =(G6*0.2+H6*0.8)*0.5+I6 -> 74.284 | K6: 4 | L6: 合格 | M6: 合格
A7: 5 | B7: 建邺法院 | C7: 书记员 | D7: 白新语 | E7: 女 | F7: 321302********1629 | G7: =VLOOKUP(D7,[1]南京市建邺区人民法院2022年度招聘基础能力测试考试!$C$2:$M$314,9,FALSE) -> 80 | H7: =VLOOKUP(D7,[1]南京市建邺区人民法院2022年度招聘基础能力测试考试!$C$2:$J$41,7,FALSE) -> 68 | I7: 38.4 | J7: =(G7*0.2+H7*0.8)*0.5+I7 -> 73.6 | K7: 5 | L7: 合格 | M7: 合格
A8: 6 | B8: 建邺法院 | C8: 书记员 | D8: 刘子越 | E8: 女 | F8: 320121********0040 | G8: =VLOOKUP(D8,[1]南京市建邺区人民法院2022年度招聘基础能力测试考试!$C$2:$M$314,9,FALSE) -> 66.79 | H8: =VLOOKUP(D8,[1]南京市建邺区人民法院2022年度招聘基础能力测试考试!$C$2:$J$41,7,FALSE) -> 74 | I8: 36.6 | J8: =(G8*0.2+H8*0.8)*0.5+I8 -> 72.879 | K8: 9 | L8: 合格 | M8: 合格
A9: 7 | B9: 建邺法院 | C9: 书记员 | D9: 闫菲菲 | E9: 女 | F9: 320381********1529 | G9: =VLOOKUP(D9,[1]南京市建邺区人民法院2022年度招聘基础能力测试考试!$C$2:$M$314,9,FALSE) -> 60.49 | H9: =VLOOKUP(D9,[1]南京市建邺区人民法院2022年度招聘基础能力测试考试!$C$2:$J$41,7,FALSE) -> 72 | I9: 37.8 | J9: =(G9*0.2+H9*0.8)*0.5+I9 -> 72.649 | K9: 11 | L9: 合格 | M9: 合格
A10: 8 | B10: 建邺法院 | C10: 书记员 | D10: 张又尹 | E10: 女 | F10: 320882********0028 | G10: =VLOOKUP(D10,[1]南京市建邺区人民法院2022年度招聘基础能力测试考试!$C$2:$M$314,9,FALSE) -> 67.51 | H10: =VLOOKUP(D10,[1]南京市建邺区人民法院2022年度招聘基础能力测试考试!$C$2:$J$41,7,FALSE) -> 70 | I10: 37.8 | J10: =(G10*0.2+H10*0.8)*0.5+I10 -> 72.551 | K10: 12 | L10: 合格 | M10: 合格
A11: 9 | B11: 建邺法院 | C11: 书记员 | D11: 张桢桢 | E11: 女 | F11: 341222********2083 | G11: =VLOOKUP(D11,[1]南京市建邺区人民法院2022年度招聘基础能力测试考试!$C$2:$M$314,9,FALSE) -> 69.48 | H11: =VLOOKUP(D11,[1]南京市建邺区人民法院2022年度招聘基础能力测试考试!$C$2:$J$41,7,FALSE) -> 70 | I11: 37.6 | J11: =(G11*0.2+H11*0.8)*0.5+I11 -> 72.548 | K11: 13 | L11: 合格 | M11: 合格
A12: 10 | B12: 建邺法院 | C12: 书记员 | D12: 田野 | E12: 男 | F12: 341122********0213 | G12: =VLOOKUP(D12,[1]南京市建邺区人民法院2022年度招聘基础能力测试考试!$C$2:$M$314,9,FALSE) -> 65.47 | H12: =VLOOKUP(D12,[1]南京市建邺区人民法院2022年度招聘基础能力测试考试!$C$2:$J$41,7,FALSE) -> 71 | I12: 37.6 | J12: =(G12*0.2+H12*0.8)*0.5+I12 -> 72.547 | K12: 14 | L12: 合格 | M12: 合格

Sheet Sheet2

Sheet Sheet3
